BEGIN:VCALENDAR
VERSION:2.0
PRODID:-//TNT Promotion - ECPv6.15.13//NONSGML v1.0//EN
CALSCALE:GREGORIAN
METHOD:PUBLISH
X-WR-CALNAME:TNT Promotion
X-ORIGINAL-URL:https://tnt-promotion.de
X-WR-CALDESC:Veranstaltungen für TNT Promotion
REFRESH-INTERVAL;VALUE=DURATION:PT1H
X-Robots-Tag:noindex
X-PUBLISHED-TTL:PT1H
BEGIN:VTIMEZONE
TZID:UTC
BEGIN:STANDARD
TZOFFSETFROM:+0000
TZOFFSETTO:+0000
TZNAME:UTC
DTSTART:20230101T000000
END:STANDARD
END:VTIMEZONE
BEGIN:VEVENT
DTSTART;TZID=UTC:20240809T200000
DTEND;TZID=UTC:20240809T220000
DTSTAMP:20260425T155054
CREATED:20240614T143247Z
LAST-MODIFIED:20240614T143247Z
UID:5009-1723233600-1723240800@tnt-promotion.de
SUMMARY:TANQUORAY
DESCRIPTION:Beginn: 20:00 Uhr \n\nTICKETS \nDer Eintritt ist frei. \n\nTANQUORAY\nTour 2024\nThe orange Soul Sensation  – seit 2015 ein Garant für Musik mit echtem Feeling. Funky Rhythmen\, zweistimmiger Satzgesang und orange Stimmung sind das Markenzeichen der 3 Soulbrothers. \nDas Resüme bisher: Über 200 erfolgreiche Konzerte\, 1 vielbeachtetes Album und 8 Jahre on the road. Soulicana ist das neue Stichwort und verbindet die Tanquoray Roots im Funk & Soul mit ihrer heimlichen Vorliebe für Country und Blues. Tanquoray verschmilzt 60ies Soul mit 90ies R&B und Pop\, Blue-eyed-Soul mit Country Harmonien. Das Duo Toby „The Cosmic Pope“ Mayerl und Michael „Michon“ Deiml haben sich mit Sebastian Hofbauer den perfekten Mitstreiter gesucht um die Botschaft des Orange Soul zu verbreiten. \nMayerl/Deiml (Piano/Schlagzeug) spielen seit 1989 in verschiedensten Bands zusammen und harmonieren auf der Bühne blind miteinander. Mit Sebastian\, den man bisher hauptsächlich aus der Rockabilly-Szene kannte\, haben die zwei Originalmitglieder einen Sänger von Format gefunden der sich optimal einfügt und gleichzeitig neue Akzente setzt. Zusätzlich bringt Sebastian Hofbauer auch seine Talente am Bass\, Kontrabass und Schlagzeug ein. Begleitet von Piano und Schlagzeug treffen zwei Stimmen mit jeweils außergewöhnlichem Ausdruck und imposanten Tonumfang aufeinander. Egal ob Tanquoray speziell ausgewähltes Songmaterial interpretiert oder Eigenes präsentiert\, es wird auf höchstem Niveau\, mit Leib und Seele performed. \nIm neuen Programm finden sich Songs von Soullegenden wie Solomon Burke und Wilson Pickett neben aktuelleren Stücken von Chris Stapleton oder den Black Pumas\, funky Tracks von Prince sind genauso am Start wie Material von unbekannteren Songwritern wie Al Wilson. \nDabei fühlen sich Sebastian\, Michon und Toby im Jazzclub oder der Kleinkunstbühne genauso zuhause wie auf der großen Open-Air-Stage. Sogar für private Events oder Living-Room-Shows sind die orangen Soulbrüder zu haben!
URL:https://tnt-promotion.de/event/tanquoray-09-08-2024/
LOCATION:Tortuga – Restaurant\, Neue Amberger Str. 89\, Grafenwöhr\, Bayern\, 92655\, Deutschland
CATEGORIES:Blues-Rock,Live Konzert,Soul,Tanquoray
ATTACH;FMTTYPE=image/jpeg:https://tnt-promotion.de/wp-content/uploads/2023/04/TANQUORAY_Pressefoto-3_2023_HP-VA_960x500.jpg
ORGANIZER;CN="Tortuga - Hotel & Restaurant":MAILTO:info@restaurant-tortuga.com
END:VEVENT
BEGIN:VEVENT
DTSTART;TZID=UTC:20240815T193000
DTEND;TZID=UTC:20240815T223000
DTSTAMP:20260425T155054
CREATED:20240614T140904Z
LAST-MODIFIED:20240614T140904Z
UID:5001-1723750200-1723761000@tnt-promotion.de
SUMMARY:HARRY & THOMAS
DESCRIPTION:Einlass: 17:00 Uhr \nBeginn: 19:30 Uhr \n\nTICKETS \nDer Eintritt ist frei. \n\n  \nHARRY & THOMAS\nUnplugged Rock am Abend\n\nHarry Zawrel + Thomas Donhauser \nEin Monument der Livemusik. \nEin Duo das keinen Namen braucht\, außer Trommelwirbel: We proudly present Harry + Thomas. Jeder kennt den Virtuosen an und mit seinen Saiten Harry Zawrel alias Dirty Harry\, ein Unikum der Musikerszene. Der Zweite im und am Bunde\, Liebhaber der Bluna Schorle\, ebenso ein Urgestein Thomas Donhauser.  Zusammen werden sie Unplugged Rock\, Soul & Blues zu ihrem allerbesten geben.
URL:https://tnt-promotion.de/event/harry-thomas-15-08-2024/
LOCATION:Hotel Haus am Berg\, Oberasberg 2\, Rinchnach\, 94269\, Deutschland
CATEGORIES:Harry + Thomas,Live Konzert
ATTACH;FMTTYPE=image/jpeg:https://tnt-promotion.de/wp-content/uploads/2023/07/HarryZawrelThomasDonhauser_VA-HP_960x500.jpg
ORGANIZER;CN="Hotel Haus am Berg":MAILTO:info@hotel-am-berg.de
END:VEVENT
BEGIN:VEVENT
DTSTART;TZID=UTC:20240825T160000
DTEND;TZID=UTC:20240825T173000
DTSTAMP:20260425T155054
CREATED:20240614T141805Z
LAST-MODIFIED:20240614T141805Z
UID:5003-1724601600-1724607000@tnt-promotion.de
SUMMARY:MACKL & FRIENDS
DESCRIPTION:Beginn: 16:00 Uhr \n\nTICKETS \nDer Eintritt ist frei. \n\nMACKL & FRIENDS\nDrei Freunde: Tenorsaxophon\, Piano und Kontrabass\nDie lose Formation „Mackl and Friends“ besteht aus Profimusikern\, die mit ihrem einzigartigen Sound einen Streifzug durch Jazz\, Blues und Latin unternehmen. \nDer bekannte Oberpfälzer Bandleader Markus “Mackl” Strobl hält am Tenorsaxophon die Fäden in der Hand. Durch seine Mitarbeit bei Bands wie Fundamental Soul Thunder\, Los Pendejos\, Que Bobbo\, Rock’n’Rolls Royce\, Swing & Dixie Locomotion\, Leroy Liqueur und vielen anderen ist er aus der regionalen Musikszene nicht mehr wegzudenken. \nDas Piano spielt meist Toby Mayerl\, den man von Gruppen wie Grand Slam\, The Fantastic Pepper Boyz\, Ramona Fink Gospel Group\, BooBoo’s SoulShack und Volker & Die Folgsamen kennt. \nDie Formation wird durch einen Kontrabassisten ergänzt\, gerne Wolfgang „Ernstl“ Ernst von Fundamental Soul Thunder\, aber auch manchmal Wolfgang Berger (Booboo’s Soulshack) oder Mike Scherer (Swing&Dixie Locomotion). Lassen Sie sich einfach mal überraschen! \nMackl and Friends spielen Klassiker! \nDas Programm besteht aus Jazz-Klassikern\, Perlen des American Songbooks\, aber auch aus selten gehörten Kompositionen und Favourites von Mackl Strobl. \nMit dem beswingten Sound von „Mackl and Friends“ wird Ihr Konzert einfach magisch.
URL:https://tnt-promotion.de/event/mackl-and-friends-28-08-2024/
LOCATION:Bootshaus Amberg\, Schiffbrückgasse 11\, Amberg\, Bayern\, 92224
CATEGORIES:Mackl & Friends
ATTACH;FMTTYPE=image/jpeg:https://tnt-promotion.de/wp-content/uploads/2024/01/mackl-and-friends960x500.jpg
ORGANIZER;CN="Bootshaus Amberg":MAILTO:servus@bootshaus-amberg.de
END:VEVENT
END:VCALENDAR